BEGIN:VCALENDAR
VERSION:2.0
PRODID:-//AudioTheme 2.3.7
BEGIN:VEVENT
UID:urn:uuid:7bc30ab2-8a66-402c-a38e-a7611a3aaed0
URL:https://bryanshepherd.com/shows/gig-301/
DTSTART;TZID=GMT:20240920T000000
SUMMARY:Box Office Brewery
DESCRIPTION:Bryan Shepherd with Scott Sanford and Wichita Falls  7–10 pm
LOCATION:Box Office Brewery\, 177 E King St\, Strasburg\, VA\, 22657
END:VEVENT
END:VCALENDAR
