BEGIN:VCALENDAR
VERSION:2.0
PRODID:-//AudioTheme 2.3.7
BEGIN:VEVENT
UID:urn:uuid:3fe8b7ac-5d2c-4345-973a-3f9bb9a7b6a3
URL:https://bryanshepherd.com/shows/gig-299/
DTSTART;TZID=GMT:20240719T000000
SUMMARY:Box Office Brewery
DESCRIPTION:Bryan Shepherd with Scott Sanford and Wichita Falls  7–10 pm
LOCATION:Box Office Brewery\, 177 E King St\, Strasburg\, VA\, 22657
END:VEVENT
END:VCALENDAR
